BEGIN:VCALENDAR
VERSION:2.0
PRODID:-//CIRTL Network - ECPv6.15.20//NONSGML v1.0//EN
CALSCALE:GREGORIAN
METHOD:PUBLISH
X-ORIGINAL-URL:https://cirtl.net
X-WR-CALDESC:Events for CIRTL Network
REFRESH-INTERVAL;VALUE=DURATION:PT1H
X-Robots-Tag:noindex
X-PUBLISHED-TTL:PT1H
BEGIN:VTIMEZONE
TZID:America/Chicago
BEGIN:DAYLIGHT
TZOFFSETFROM:-0600
TZOFFSETTO:-0500
TZNAME:CDT
DTSTART:20240310T080000
END:DAYLIGHT
BEGIN:STANDARD
TZOFFSETFROM:-0500
TZOFFSETTO:-0600
TZNAME:CST
DTSTART:20241103T070000
END:STANDARD
BEGIN:DAYLIGHT
TZOFFSETFROM:-0600
TZOFFSETTO:-0500
TZNAME:CDT
DTSTART:20250309T080000
END:DAYLIGHT
BEGIN:STANDARD
TZOFFSETFROM:-0500
TZOFFSETTO:-0600
TZNAME:CST
DTSTART:20251102T070000
END:STANDARD
BEGIN:DAYLIGHT
TZOFFSETFROM:-0600
TZOFFSETTO:-0500
TZNAME:CDT
DTSTART:20260308T080000
END:DAYLIGHT
BEGIN:STANDARD
TZOFFSETFROM:-0500
TZOFFSETTO:-0600
TZNAME:CST
DTSTART:20261101T070000
END:STANDARD
END:VTIMEZONE
BEGIN:VEVENT
DTSTART;TZID=America/Chicago:20250609T080000
DTEND;TZID=America/Chicago:20250609T233000
DTSTAMP:20260419T105912
CREATED:20250415T194013Z
LAST-MODIFIED:20250521T154817Z
UID:10002847-1749456000-1749511800@cirtl.net
SUMMARY:Johns Hopkins University Online Teaching Institute
DESCRIPTION:The Johns Hopkins Teaching Institute is a multi-day online teaching institute designed to help doctoral students and post-docs become successful and confident classroom teachers. Participants will explore the benefits of active learning\, ongoing assessment\, and fostering inclusive classrooms.  Participants will examine a variety of teaching practices and principles and will also participate in peer-evaluated micro-teaching exercises or choose to present a lesson plan that they develop as part of the teaching institute. By the end of the institute\, participants will be able to: \n\n\n\nExplore and test multiple teaching methods that engage and assess diverse students;\nDevelop skills and strategies to continue growing as reflective instructors who employ evidence-informed teaching methods;\n​​​​​​​Identify strategies that improve student learning outcomes for all students;\nCreate a peer-reviewed lesson plan;\nPresent a lesson plan or facilitate micro-teaching exercise to their peer group\n\n\n\nSchedule\n\n\nThis institute meets online daily from Monday\, June 9 through Friday\, June 13 at 5-8:30pm Gulf / 10-1:30pm Atlantic / 9-12:30pm Eastern / 8am-11:30am Central / 7-10:30am Mountain / 6-9:30am Pacific/Arizona. Participants can see a detailed schedule upon registration. \nWorkload\nParticipants are expected to continue working on their lesson plan and micro-teaching activity outside of daily sessions. \nRegistration & Enrollment\n**This institute is at capacity as of Tuesday\, April 29** \nThis institute has a cap of 40 CIRTL participants. Registration will be processed on a first-come\, first-served basis. Registrants from CIRTL member institutions or alumni of CIRTL member institutions will receive priority. Once registration closes\, all registrants will be notified of their enrollment status. \nAccessibility\nIf you have access needs\, please let us know what they are. Contact Zoe Zuleger (zmzuleger@wisc.edu) to let us know how we can help you have a successful experience. \n\nLearning Outcomes\nAll CIRTL Network programming is designed to help participants achieve familiarity with our Core Ideas. This workshop is designed around the following learning outcomes. \nAssociate: Evidence-Based Teaching\n\nDescribe and recognize the value of realistic well-defined\, achievable\, measurable and student-centered learning goals.\nDescribe several assessment techniques and recognize their alignment with particular types of learning goals.\nDescribe several known high-impact\, evidence-based effective instructional practices and materials and recognize their alignment with particular types of learning goals.\n\nAssociate: Learning-through-Diversity\n\nDescribe and recognize the value of drawing on diversity in the development of teaching plans (including content\, teaching practices and assessments) to foster learning.\nDescribe how an instructor’s beliefs and biases can influence student learning.\nDescribe several learning-through-diversity (LtD) techniques and strategies.\nDescribe the impact of diversity on student learning\, in particular how diversity can enhance learning\, and how inequities can negatively impact learning if not addressed.\nDescribe the scope of diversity in learning environments\, of both students and instructor.\n\nAssociate: Teaching as Research-TAR\n\nDefine and recognize the value of the Teaching-as-Research process\, and how it can be used for ongoing enhancement of learning.\nDescribe a “full-inquiry” cycle\nDescribe how the integration of Evidence-Based Teaching\, Learning Communities and Learning-through-Diversity within Teaching-as-Research can be integrated to implement and advance effective teaching practices for diverse learners\nDescribe how to access the literature and existing knowledge about teaching and learning issues\, in a discipline or more broadly.
URL:https://cirtl.net/event/johns-hopkins-university-online-teaching-institute-2/2025-06-09/
CATEGORIES:Institute
END:VEVENT
BEGIN:VEVENT
DTSTART;TZID=America/Chicago:20250610T080000
DTEND;TZID=America/Chicago:20250610T233000
DTSTAMP:20260419T105912
CREATED:20250415T194013Z
LAST-MODIFIED:20250521T154817Z
UID:10002848-1749542400-1749598200@cirtl.net
SUMMARY:Johns Hopkins University Online Teaching Institute
DESCRIPTION:The Johns Hopkins Teaching Institute is a multi-day online teaching institute designed to help doctoral students and post-docs become successful and confident classroom teachers. Participants will explore the benefits of active learning\, ongoing assessment\, and fostering inclusive classrooms.  Participants will examine a variety of teaching practices and principles and will also participate in peer-evaluated micro-teaching exercises or choose to present a lesson plan that they develop as part of the teaching institute. By the end of the institute\, participants will be able to: \n\n\n\nExplore and test multiple teaching methods that engage and assess diverse students;\nDevelop skills and strategies to continue growing as reflective instructors who employ evidence-informed teaching methods;\n​​​​​​​Identify strategies that improve student learning outcomes for all students;\nCreate a peer-reviewed lesson plan;\nPresent a lesson plan or facilitate micro-teaching exercise to their peer group\n\n\n\nSchedule\n\n\nThis institute meets online daily from Monday\, June 9 through Friday\, June 13 at 5-8:30pm Gulf / 10-1:30pm Atlantic / 9-12:30pm Eastern / 8am-11:30am Central / 7-10:30am Mountain / 6-9:30am Pacific/Arizona. Participants can see a detailed schedule upon registration. \nWorkload\nParticipants are expected to continue working on their lesson plan and micro-teaching activity outside of daily sessions. \nRegistration & Enrollment\n**This institute is at capacity as of Tuesday\, April 29** \nThis institute has a cap of 40 CIRTL participants. Registration will be processed on a first-come\, first-served basis. Registrants from CIRTL member institutions or alumni of CIRTL member institutions will receive priority. Once registration closes\, all registrants will be notified of their enrollment status. \nAccessibility\nIf you have access needs\, please let us know what they are. Contact Zoe Zuleger (zmzuleger@wisc.edu) to let us know how we can help you have a successful experience. \n\nLearning Outcomes\nAll CIRTL Network programming is designed to help participants achieve familiarity with our Core Ideas. This workshop is designed around the following learning outcomes. \nAssociate: Evidence-Based Teaching\n\nDescribe and recognize the value of realistic well-defined\, achievable\, measurable and student-centered learning goals.\nDescribe several assessment techniques and recognize their alignment with particular types of learning goals.\nDescribe several known high-impact\, evidence-based effective instructional practices and materials and recognize their alignment with particular types of learning goals.\n\nAssociate: Learning-through-Diversity\n\nDescribe and recognize the value of drawing on diversity in the development of teaching plans (including content\, teaching practices and assessments) to foster learning.\nDescribe how an instructor’s beliefs and biases can influence student learning.\nDescribe several learning-through-diversity (LtD) techniques and strategies.\nDescribe the impact of diversity on student learning\, in particular how diversity can enhance learning\, and how inequities can negatively impact learning if not addressed.\nDescribe the scope of diversity in learning environments\, of both students and instructor.\n\nAssociate: Teaching as Research-TAR\n\nDefine and recognize the value of the Teaching-as-Research process\, and how it can be used for ongoing enhancement of learning.\nDescribe a “full-inquiry” cycle\nDescribe how the integration of Evidence-Based Teaching\, Learning Communities and Learning-through-Diversity within Teaching-as-Research can be integrated to implement and advance effective teaching practices for diverse learners\nDescribe how to access the literature and existing knowledge about teaching and learning issues\, in a discipline or more broadly.
URL:https://cirtl.net/event/johns-hopkins-university-online-teaching-institute-2/2025-06-10/
CATEGORIES:Institute
END:VEVENT
BEGIN:VEVENT
DTSTART;TZID=America/Chicago:20250611T080000
DTEND;TZID=America/Chicago:20250611T233000
DTSTAMP:20260419T105912
CREATED:20250415T194013Z
LAST-MODIFIED:20250521T154817Z
UID:10002849-1749628800-1749684600@cirtl.net
SUMMARY:Johns Hopkins University Online Teaching Institute
DESCRIPTION:The Johns Hopkins Teaching Institute is a multi-day online teaching institute designed to help doctoral students and post-docs become successful and confident classroom teachers. Participants will explore the benefits of active learning\, ongoing assessment\, and fostering inclusive classrooms.  Participants will examine a variety of teaching practices and principles and will also participate in peer-evaluated micro-teaching exercises or choose to present a lesson plan that they develop as part of the teaching institute. By the end of the institute\, participants will be able to: \n\n\n\nExplore and test multiple teaching methods that engage and assess diverse students;\nDevelop skills and strategies to continue growing as reflective instructors who employ evidence-informed teaching methods;\n​​​​​​​Identify strategies that improve student learning outcomes for all students;\nCreate a peer-reviewed lesson plan;\nPresent a lesson plan or facilitate micro-teaching exercise to their peer group\n\n\n\nSchedule\n\n\nThis institute meets online daily from Monday\, June 9 through Friday\, June 13 at 5-8:30pm Gulf / 10-1:30pm Atlantic / 9-12:30pm Eastern / 8am-11:30am Central / 7-10:30am Mountain / 6-9:30am Pacific/Arizona. Participants can see a detailed schedule upon registration. \nWorkload\nParticipants are expected to continue working on their lesson plan and micro-teaching activity outside of daily sessions. \nRegistration & Enrollment\n**This institute is at capacity as of Tuesday\, April 29** \nThis institute has a cap of 40 CIRTL participants. Registration will be processed on a first-come\, first-served basis. Registrants from CIRTL member institutions or alumni of CIRTL member institutions will receive priority. Once registration closes\, all registrants will be notified of their enrollment status. \nAccessibility\nIf you have access needs\, please let us know what they are. Contact Zoe Zuleger (zmzuleger@wisc.edu) to let us know how we can help you have a successful experience. \n\nLearning Outcomes\nAll CIRTL Network programming is designed to help participants achieve familiarity with our Core Ideas. This workshop is designed around the following learning outcomes. \nAssociate: Evidence-Based Teaching\n\nDescribe and recognize the value of realistic well-defined\, achievable\, measurable and student-centered learning goals.\nDescribe several assessment techniques and recognize their alignment with particular types of learning goals.\nDescribe several known high-impact\, evidence-based effective instructional practices and materials and recognize their alignment with particular types of learning goals.\n\nAssociate: Learning-through-Diversity\n\nDescribe and recognize the value of drawing on diversity in the development of teaching plans (including content\, teaching practices and assessments) to foster learning.\nDescribe how an instructor’s beliefs and biases can influence student learning.\nDescribe several learning-through-diversity (LtD) techniques and strategies.\nDescribe the impact of diversity on student learning\, in particular how diversity can enhance learning\, and how inequities can negatively impact learning if not addressed.\nDescribe the scope of diversity in learning environments\, of both students and instructor.\n\nAssociate: Teaching as Research-TAR\n\nDefine and recognize the value of the Teaching-as-Research process\, and how it can be used for ongoing enhancement of learning.\nDescribe a “full-inquiry” cycle\nDescribe how the integration of Evidence-Based Teaching\, Learning Communities and Learning-through-Diversity within Teaching-as-Research can be integrated to implement and advance effective teaching practices for diverse learners\nDescribe how to access the literature and existing knowledge about teaching and learning issues\, in a discipline or more broadly.
URL:https://cirtl.net/event/johns-hopkins-university-online-teaching-institute-2/2025-06-11/
CATEGORIES:Institute
END:VEVENT
BEGIN:VEVENT
DTSTART;TZID=America/Chicago:20250612T080000
DTEND;TZID=America/Chicago:20250612T233000
DTSTAMP:20260419T105912
CREATED:20250415T194013Z
LAST-MODIFIED:20250521T154817Z
UID:10002850-1749715200-1749771000@cirtl.net
SUMMARY:Johns Hopkins University Online Teaching Institute
DESCRIPTION:The Johns Hopkins Teaching Institute is a multi-day online teaching institute designed to help doctoral students and post-docs become successful and confident classroom teachers. Participants will explore the benefits of active learning\, ongoing assessment\, and fostering inclusive classrooms.  Participants will examine a variety of teaching practices and principles and will also participate in peer-evaluated micro-teaching exercises or choose to present a lesson plan that they develop as part of the teaching institute. By the end of the institute\, participants will be able to: \n\n\n\nExplore and test multiple teaching methods that engage and assess diverse students;\nDevelop skills and strategies to continue growing as reflective instructors who employ evidence-informed teaching methods;\n​​​​​​​Identify strategies that improve student learning outcomes for all students;\nCreate a peer-reviewed lesson plan;\nPresent a lesson plan or facilitate micro-teaching exercise to their peer group\n\n\n\nSchedule\n\n\nThis institute meets online daily from Monday\, June 9 through Friday\, June 13 at 5-8:30pm Gulf / 10-1:30pm Atlantic / 9-12:30pm Eastern / 8am-11:30am Central / 7-10:30am Mountain / 6-9:30am Pacific/Arizona. Participants can see a detailed schedule upon registration. \nWorkload\nParticipants are expected to continue working on their lesson plan and micro-teaching activity outside of daily sessions. \nRegistration & Enrollment\n**This institute is at capacity as of Tuesday\, April 29** \nThis institute has a cap of 40 CIRTL participants. Registration will be processed on a first-come\, first-served basis. Registrants from CIRTL member institutions or alumni of CIRTL member institutions will receive priority. Once registration closes\, all registrants will be notified of their enrollment status. \nAccessibility\nIf you have access needs\, please let us know what they are. Contact Zoe Zuleger (zmzuleger@wisc.edu) to let us know how we can help you have a successful experience. \n\nLearning Outcomes\nAll CIRTL Network programming is designed to help participants achieve familiarity with our Core Ideas. This workshop is designed around the following learning outcomes. \nAssociate: Evidence-Based Teaching\n\nDescribe and recognize the value of realistic well-defined\, achievable\, measurable and student-centered learning goals.\nDescribe several assessment techniques and recognize their alignment with particular types of learning goals.\nDescribe several known high-impact\, evidence-based effective instructional practices and materials and recognize their alignment with particular types of learning goals.\n\nAssociate: Learning-through-Diversity\n\nDescribe and recognize the value of drawing on diversity in the development of teaching plans (including content\, teaching practices and assessments) to foster learning.\nDescribe how an instructor’s beliefs and biases can influence student learning.\nDescribe several learning-through-diversity (LtD) techniques and strategies.\nDescribe the impact of diversity on student learning\, in particular how diversity can enhance learning\, and how inequities can negatively impact learning if not addressed.\nDescribe the scope of diversity in learning environments\, of both students and instructor.\n\nAssociate: Teaching as Research-TAR\n\nDefine and recognize the value of the Teaching-as-Research process\, and how it can be used for ongoing enhancement of learning.\nDescribe a “full-inquiry” cycle\nDescribe how the integration of Evidence-Based Teaching\, Learning Communities and Learning-through-Diversity within Teaching-as-Research can be integrated to implement and advance effective teaching practices for diverse learners\nDescribe how to access the literature and existing knowledge about teaching and learning issues\, in a discipline or more broadly.
URL:https://cirtl.net/event/johns-hopkins-university-online-teaching-institute-2/2025-06-12/
CATEGORIES:Institute
END:VEVENT
BEGIN:VEVENT
DTSTART;TZID=America/Chicago:20250613T080000
DTEND;TZID=America/Chicago:20250613T233000
DTSTAMP:20260419T105912
CREATED:20250415T194013Z
LAST-MODIFIED:20250521T154817Z
UID:10002851-1749801600-1749857400@cirtl.net
SUMMARY:Johns Hopkins University Online Teaching Institute
DESCRIPTION:The Johns Hopkins Teaching Institute is a multi-day online teaching institute designed to help doctoral students and post-docs become successful and confident classroom teachers. Participants will explore the benefits of active learning\, ongoing assessment\, and fostering inclusive classrooms.  Participants will examine a variety of teaching practices and principles and will also participate in peer-evaluated micro-teaching exercises or choose to present a lesson plan that they develop as part of the teaching institute. By the end of the institute\, participants will be able to: \n\n\n\nExplore and test multiple teaching methods that engage and assess diverse students;\nDevelop skills and strategies to continue growing as reflective instructors who employ evidence-informed teaching methods;\n​​​​​​​Identify strategies that improve student learning outcomes for all students;\nCreate a peer-reviewed lesson plan;\nPresent a lesson plan or facilitate micro-teaching exercise to their peer group\n\n\n\nSchedule\n\n\nThis institute meets online daily from Monday\, June 9 through Friday\, June 13 at 5-8:30pm Gulf / 10-1:30pm Atlantic / 9-12:30pm Eastern / 8am-11:30am Central / 7-10:30am Mountain / 6-9:30am Pacific/Arizona. Participants can see a detailed schedule upon registration. \nWorkload\nParticipants are expected to continue working on their lesson plan and micro-teaching activity outside of daily sessions. \nRegistration & Enrollment\n**This institute is at capacity as of Tuesday\, April 29** \nThis institute has a cap of 40 CIRTL participants. Registration will be processed on a first-come\, first-served basis. Registrants from CIRTL member institutions or alumni of CIRTL member institutions will receive priority. Once registration closes\, all registrants will be notified of their enrollment status. \nAccessibility\nIf you have access needs\, please let us know what they are. Contact Zoe Zuleger (zmzuleger@wisc.edu) to let us know how we can help you have a successful experience. \n\nLearning Outcomes\nAll CIRTL Network programming is designed to help participants achieve familiarity with our Core Ideas. This workshop is designed around the following learning outcomes. \nAssociate: Evidence-Based Teaching\n\nDescribe and recognize the value of realistic well-defined\, achievable\, measurable and student-centered learning goals.\nDescribe several assessment techniques and recognize their alignment with particular types of learning goals.\nDescribe several known high-impact\, evidence-based effective instructional practices and materials and recognize their alignment with particular types of learning goals.\n\nAssociate: Learning-through-Diversity\n\nDescribe and recognize the value of drawing on diversity in the development of teaching plans (including content\, teaching practices and assessments) to foster learning.\nDescribe how an instructor’s beliefs and biases can influence student learning.\nDescribe several learning-through-diversity (LtD) techniques and strategies.\nDescribe the impact of diversity on student learning\, in particular how diversity can enhance learning\, and how inequities can negatively impact learning if not addressed.\nDescribe the scope of diversity in learning environments\, of both students and instructor.\n\nAssociate: Teaching as Research-TAR\n\nDefine and recognize the value of the Teaching-as-Research process\, and how it can be used for ongoing enhancement of learning.\nDescribe a “full-inquiry” cycle\nDescribe how the integration of Evidence-Based Teaching\, Learning Communities and Learning-through-Diversity within Teaching-as-Research can be integrated to implement and advance effective teaching practices for diverse learners\nDescribe how to access the literature and existing knowledge about teaching and learning issues\, in a discipline or more broadly.
URL:https://cirtl.net/event/johns-hopkins-university-online-teaching-institute-2/2025-06-13/
CATEGORIES:Institute
END:VEVENT
END:VCALENDAR