BEGIN:VCALENDAR
VERSION:2.0
PRODID:-//CIRTL Network - ECPv6.15.20//NONSGML v1.0//EN
CALSCALE:GREGORIAN
METHOD:PUBLISH
X-WR-CALNAME:CIRTL Network
X-ORIGINAL-URL:https://cirtl.net
X-WR-CALDESC:Events for CIRTL Network
REFRESH-INTERVAL;VALUE=DURATION:PT1H
X-Robots-Tag:noindex
X-PUBLISHED-TTL:PT1H
BEGIN:VTIMEZONE
TZID:America/Chicago
BEGIN:DAYLIGHT
TZOFFSETFROM:-0600
TZOFFSETTO:-0500
TZNAME:CDT
DTSTART:20210314T080000
END:DAYLIGHT
BEGIN:STANDARD
TZOFFSETFROM:-0500
TZOFFSETTO:-0600
TZNAME:CST
DTSTART:20211107T070000
END:STANDARD
BEGIN:DAYLIGHT
TZOFFSETFROM:-0600
TZOFFSETTO:-0500
TZNAME:CDT
DTSTART:20220313T080000
END:DAYLIGHT
BEGIN:STANDARD
TZOFFSETFROM:-0500
TZOFFSETTO:-0600
TZNAME:CST
DTSTART:20221106T070000
END:STANDARD
BEGIN:DAYLIGHT
TZOFFSETFROM:-0600
TZOFFSETTO:-0500
TZNAME:CDT
DTSTART:20230312T080000
END:DAYLIGHT
BEGIN:STANDARD
TZOFFSETFROM:-0500
TZOFFSETTO:-0600
TZNAME:CST
DTSTART:20231105T070000
END:STANDARD
END:VTIMEZONE
BEGIN:VEVENT
DTSTART;TZID=America/Chicago:20221205T113000
DTEND;TZID=America/Chicago:20221205T133000
DTSTAMP:20260425T202826
CREATED:20220912T021819Z
LAST-MODIFIED:20230823T175402Z
UID:10000028-1670239800-1670247000@cirtl.net
SUMMARY:Ethical Dilemmas in Inclusive Teaching: Difficult Dynamics in the Lab
DESCRIPTION:Cases that showcase inclusive teaching dilemmas at the university offer the opportunity for many to develop and test their own ways of understanding how they respond to dilemmas in their teaching. In this interactive workshop\, come together with fellow future faculty to discuss some problematic group dynamics and cultural differences playing out in a lab course at a large research university. Participants will brainstorm possible solutions and challenge assumptions about potential paths forward that they can bring to their current and future institutions. All are welcome. \nRegistration Closed \nWorkshop Schedule\nThis one-session online workshop meets on Monday\, December 5 at 1:30-3:30PM AT / 12:30-2:30PM ET / 11:30AM-1:30PM CT / 10:30AM-12:30PM MT / 9:30-11:30AM PT. \nRegistration & Enrollment\nThis workshop has a cap of 25 students. Registration is open from Monday\, August 29 until Friday\, September 9. Registration will be processed on a first-come\, first-served basis and registrants from CIRTL member institutions or alumni of CIRTL member institutions will receive priority. Once registration closes\, all registrants will be notified of their enrollment status. \nAccessibility\nWe strive to be inclusive of anyone interested in participating in our activities. If you have specific accessibility needs\, please contact us at info@cirtl.net in advance so that we may make the necessary accommodations. \n\nLearning Outcomes\nAssociate: Learning Community\n\nDescribe and recognize the value of learning communities\, and how they impact student learning.\nDescribe several techniques and issues of establishing LCs comprising a diverse group of learners.\nRecognize the value of and participate in local professionally-focused learning communities associated with teaching and learning.\n\nAssociate: Learning-through-Diversity\n\nDescribe the scope of diversity in learning environments\, of both students and instructor. (*Including but not limited to backgrounds\, race\, gender\, ability\, socio-economic status\, ethnicity\, gender preference\, and cognitive skills)\nDescribe the impact of diversity on student learning\, in particular how diversity can enhance learning\, and how inequities can negatively impact learning if not addressed.\nDescribe how an instructor’s beliefs and biases can influence student learning.\n\nPractitioner: Learning Community\n\nIntegrate one or more LC strategies into a teaching plan so as to accomplish learning goals and learning-through-diversity.\nContribute to local professionally-focused learning communities associated with teaching and learning.\n\nPractitioner: Learning-through-Diversity\n\nExamine and describe own beliefs and biases\, including how they may influence their students’ learning.\nDetermine the diverse backgrounds among a group of students\, and consider the opportunities and challenges of the findings on each student’s learning.
URL:https://cirtl.net/event/ethical-dilemmas-in-inclusive-teaching-difficult-dynamics-in-the-lab/
CATEGORIES:Workshop
END:VEVENT
END:VCALENDAR