BEGIN:VCALENDAR
VERSION:2.0
PRODID:-//CIRTL Network - ECPv6.15.20//NONSGML v1.0//EN
CALSCALE:GREGORIAN
METHOD:PUBLISH
X-ORIGINAL-URL:https://cirtl.net
X-WR-CALDESC:Events for CIRTL Network
REFRESH-INTERVAL;VALUE=DURATION:PT1H
X-Robots-Tag:noindex
X-PUBLISHED-TTL:PT1H
BEGIN:VTIMEZONE
TZID:America/Chicago
BEGIN:DAYLIGHT
TZOFFSETFROM:-0600
TZOFFSETTO:-0500
TZNAME:CDT
DTSTART:20220313T080000
END:DAYLIGHT
BEGIN:STANDARD
TZOFFSETFROM:-0500
TZOFFSETTO:-0600
TZNAME:CST
DTSTART:20221106T070000
END:STANDARD
BEGIN:DAYLIGHT
TZOFFSETFROM:-0600
TZOFFSETTO:-0500
TZNAME:CDT
DTSTART:20230312T080000
END:DAYLIGHT
BEGIN:STANDARD
TZOFFSETFROM:-0500
TZOFFSETTO:-0600
TZNAME:CST
DTSTART:20231105T070000
END:STANDARD
BEGIN:DAYLIGHT
TZOFFSETFROM:-0600
TZOFFSETTO:-0500
TZNAME:CDT
DTSTART:20240310T080000
END:DAYLIGHT
BEGIN:STANDARD
TZOFFSETFROM:-0500
TZOFFSETTO:-0600
TZNAME:CST
DTSTART:20241103T070000
END:STANDARD
END:VTIMEZONE
BEGIN:VEVENT
DTSTART;TZID=America/Chicago:20230208T110000
DTEND;TZID=America/Chicago:20230208T130000
DTSTAMP:20260425T175654
CREATED:20221215T183041Z
LAST-MODIFIED:20230119T145832Z
UID:10000512-1675854000-1675861200@cirtl.net
SUMMARY:Decode a Troublesome Concept or Skill for Your Learners
DESCRIPTION:* This workshop is at capacity and closed for registration as of Thursday\, January 19. Registrants are notified of their enrollment status within 2 business days of registration closing. * \n\nThis two-part workshop is for anyone who needs to explain a concept or skill to students in any instructional role: an instructor\, a guest lecturer\, as a teaching assistant or tutor holding office hours. The main deliverable of the workshop is to develop an analogy for a particular concept/skill that will make your learners say “Aha! I truly understand what you mean!” By the end of this workshop\, participants will: \n\nIdentify specific content or skills learners in your field/discipline typically struggle with.\nDevelop an instructional intervention (in the form of an analogy) to communicate the mental actions learners must take in order to successfully navigate their struggle.\n\nInstructors\nLarkin Hood & Chris Brua – Pennsylvania State University \nWorkshop Schedule\nThis two-session online workshop meets on Wednesday\, February 8 and February 15\n1-3PM AT/ 12-2PM ET / 11AM-1PM CT / 10AM-12PM MT / 9-11AM PT \nWorkload\nInstructors anticipate students will need to spend 2-4 hours of total asynchronous work time for this workshop. \nRegistration & Enrollment\nThis workshop has a cap of 20 students. Registration is open from Tuesday\, January 10 until capacity is reached or until Friday\, January 27\, whichever comes first. Registration will be processed on a first-come\, first-served basis and registrants from CIRTL member institutions or alumni of CIRTL member institutions will receive priority. Once registration closes\, all registrants will be notified of their enrollment status. \nAccessibility\nWe strive to be inclusive of anyone interested in participating in our activities. If you have specific accessibility needs\, please contact us at info@cirtl.net in advance so that we may make the necessary accommodations. \n\nLearning Outcomes\nPractitioner: Evidence-Based Teaching\n\nImplement one or more evidence-based teaching strategies for students in a learning environment\nIntegrate one or more evidence-based teaching strategies into a teaching plan so as to accomplish learning goals
URL:https://cirtl.net/event/decode-a-troublesome-concept-or-skill-for-your-learners/2023-02-08/
CATEGORIES:Workshop
END:VEVENT
BEGIN:VEVENT
DTSTART;TZID=America/Chicago:20230215T110000
DTEND;TZID=America/Chicago:20230215T130000
DTSTAMP:20260425T175654
CREATED:20221215T183041Z
LAST-MODIFIED:20230119T145832Z
UID:10000513-1676458800-1676466000@cirtl.net
SUMMARY:Decode a Troublesome Concept or Skill for Your Learners
DESCRIPTION:* This workshop is at capacity and closed for registration as of Thursday\, January 19. Registrants are notified of their enrollment status within 2 business days of registration closing. * \n\nThis two-part workshop is for anyone who needs to explain a concept or skill to students in any instructional role: an instructor\, a guest lecturer\, as a teaching assistant or tutor holding office hours. The main deliverable of the workshop is to develop an analogy for a particular concept/skill that will make your learners say “Aha! I truly understand what you mean!” By the end of this workshop\, participants will: \n\nIdentify specific content or skills learners in your field/discipline typically struggle with.\nDevelop an instructional intervention (in the form of an analogy) to communicate the mental actions learners must take in order to successfully navigate their struggle.\n\nInstructors\nLarkin Hood & Chris Brua – Pennsylvania State University \nWorkshop Schedule\nThis two-session online workshop meets on Wednesday\, February 8 and February 15\n1-3PM AT/ 12-2PM ET / 11AM-1PM CT / 10AM-12PM MT / 9-11AM PT \nWorkload\nInstructors anticipate students will need to spend 2-4 hours of total asynchronous work time for this workshop. \nRegistration & Enrollment\nThis workshop has a cap of 20 students. Registration is open from Tuesday\, January 10 until capacity is reached or until Friday\, January 27\, whichever comes first. Registration will be processed on a first-come\, first-served basis and registrants from CIRTL member institutions or alumni of CIRTL member institutions will receive priority. Once registration closes\, all registrants will be notified of their enrollment status. \nAccessibility\nWe strive to be inclusive of anyone interested in participating in our activities. If you have specific accessibility needs\, please contact us at info@cirtl.net in advance so that we may make the necessary accommodations. \n\nLearning Outcomes\nPractitioner: Evidence-Based Teaching\n\nImplement one or more evidence-based teaching strategies for students in a learning environment\nIntegrate one or more evidence-based teaching strategies into a teaching plan so as to accomplish learning goals
URL:https://cirtl.net/event/decode-a-troublesome-concept-or-skill-for-your-learners/2023-02-15/
CATEGORIES:Workshop
END:VEVENT
END:VCALENDAR