BEGIN:VCALENDAR
VERSION:2.0
PRODID:-//CIRTL Network - ECPv6.15.20//NONSGML v1.0//EN
CALSCALE:GREGORIAN
METHOD:PUBLISH
X-ORIGINAL-URL:https://cirtl.net
X-WR-CALDESC:Events for CIRTL Network
REFRESH-INTERVAL;VALUE=DURATION:PT1H
X-Robots-Tag:noindex
X-PUBLISHED-TTL:PT1H
BEGIN:VTIMEZONE
TZID:America/Chicago
BEGIN:DAYLIGHT
TZOFFSETFROM:-0600
TZOFFSETTO:-0500
TZNAME:CDT
DTSTART:20220313T080000
END:DAYLIGHT
BEGIN:STANDARD
TZOFFSETFROM:-0500
TZOFFSETTO:-0600
TZNAME:CST
DTSTART:20221106T070000
END:STANDARD
BEGIN:DAYLIGHT
TZOFFSETFROM:-0600
TZOFFSETTO:-0500
TZNAME:CDT
DTSTART:20230312T080000
END:DAYLIGHT
BEGIN:STANDARD
TZOFFSETFROM:-0500
TZOFFSETTO:-0600
TZNAME:CST
DTSTART:20231105T070000
END:STANDARD
BEGIN:DAYLIGHT
TZOFFSETFROM:-0600
TZOFFSETTO:-0500
TZNAME:CDT
DTSTART:20240310T080000
END:DAYLIGHT
BEGIN:STANDARD
TZOFFSETFROM:-0500
TZOFFSETTO:-0600
TZNAME:CST
DTSTART:20241103T070000
END:STANDARD
END:VTIMEZONE
BEGIN:VEVENT
DTSTART;TZID=America/Chicago:20230713T123000
DTEND;TZID=America/Chicago:20230713T134500
DTSTAMP:20260425T111903
CREATED:20230426T161726Z
LAST-MODIFIED:20230515T155655Z
UID:10000579-1689251400-1689255900@cirtl.net
SUMMARY:Preparing Your Teaching Demo for a Job Interview
DESCRIPTION:As part of the interview process for a faculty position in the U.S.\, you may be asked to lead a teaching demonstration. In this interactive workshop\, we’ll discuss ways to go into your teaching demo with preparedness\, confidence\, and adaptability. By the end of this workshop\, participants will be prepared to: \n\nidentify questions and decision points useful in preparing a teaching demo for a job interview in the U.S.\nstrategize ways to gather the information needed to effectively plan a teaching demo\ngenerate strategies for dealing effectively with challenging situations that might emerge during a demo (e.g. logistical\, technological\, or interpersonal).\n\nREGISTER \nInstructors\nChas Brua & Beate Brunow – Pennsylvania State University \nWorkshop Schedule\nThis one-session online workshop meets on Thursday\, July 13 at 2:30-3:45 PM AT / 1:30-2:45PM ET / 12:30-1:45PM CT / 11:30AM-12:45PM MT / 10:30-11:45AM PT. \nRegistration and Enrollment\nThis workshop has a cap of 150 students. Registration is open from Monday\, May 15 until capacity is reached. Registration will be processed on a first-come\, first-served basis and registrants from CIRTL member institutions or alumni of CIRTL member institutions will receive priority. Once registration closes\, all registrants will be notified of their enrollment status. \nAccessibility\nWe strive to be inclusive of anyone interested in participating in our activities. If you have specific accessibility needs\, please contact us at info@cirtl.net in advance so that we may make the necessary accommodations. \n\nLearning Outcomes\nProfessional Development\n\nCreate materials that are commonplace in the academic job market (resumes\, CVs\, teaching portfolios\, teaching statements\, etc.)
URL:https://cirtl.net/event/preparing-your-teaching-demo-for-a-job-interview-2/
CATEGORIES:Workshop
END:VEVENT
END:VCALENDAR