BEGIN:VCALENDAR
VERSION:2.0
PRODID:-//CIRTL Network - ECPv6.15.20//NONSGML v1.0//EN
CALSCALE:GREGORIAN
METHOD:PUBLISH
X-ORIGINAL-URL:https://cirtl.net
X-WR-CALDESC:Events for CIRTL Network
REFRESH-INTERVAL;VALUE=DURATION:PT1H
X-Robots-Tag:noindex
X-PUBLISHED-TTL:PT1H
BEGIN:VTIMEZONE
TZID:America/Chicago
BEGIN:DAYLIGHT
TZOFFSETFROM:-0600
TZOFFSETTO:-0500
TZNAME:CDT
DTSTART:20240310T080000
END:DAYLIGHT
BEGIN:STANDARD
TZOFFSETFROM:-0500
TZOFFSETTO:-0600
TZNAME:CST
DTSTART:20241103T070000
END:STANDARD
BEGIN:DAYLIGHT
TZOFFSETFROM:-0600
TZOFFSETTO:-0500
TZNAME:CDT
DTSTART:20250309T080000
END:DAYLIGHT
BEGIN:STANDARD
TZOFFSETFROM:-0500
TZOFFSETTO:-0600
TZNAME:CST
DTSTART:20251102T070000
END:STANDARD
BEGIN:DAYLIGHT
TZOFFSETFROM:-0600
TZOFFSETTO:-0500
TZNAME:CDT
DTSTART:20260308T080000
END:DAYLIGHT
BEGIN:STANDARD
TZOFFSETFROM:-0500
TZOFFSETTO:-0600
TZNAME:CST
DTSTART:20261101T070000
END:STANDARD
END:VTIMEZONE
BEGIN:VEVENT
DTSTART;TZID=America/Chicago:20251006T110000
DTEND;TZID=America/Chicago:20251006T123000
DTSTAMP:20260423T231325
CREATED:20250724T212853Z
LAST-MODIFIED:20250922T224335Z
UID:10002874-1759748400-1759753800@cirtl.net
SUMMARY:Preparing a Teaching Demo for a Job Interview
DESCRIPTION:As part of the interview process for a faculty position\, you may be asked to lead a teaching demonstration. In this interactive workshop\, we’ll discuss ways to go into your teaching demo with preparedness\, confidence\, and adaptability. Participants will explore considerations related to their audience\, factors affecting content\, logistics (including technology)\, and teaching/learning interactions. Participants will also strategize ways to cope with unexpected challenges that could emerge during a teaching demo. By the end of this workshop\, participants will be prepared to: \n\nIdentify questions and decision points useful in preparing a teaching demo for a job interview.\nStrategize ways to gather the information needed to effectively plan a teaching demo.\nGenerate strategies for dealing effectively with challenging situations that might emerge during a demo (e.g.\, logistical\, technological\, or interpersonal).\n\nInstructors\nChas Brua\, Pennsylvania State University\nBeate Brunow\, Pennsylvania State University \nWorkshop Schedule\nThis one-session online workshop meets in Zoom on Monday\, October 6th at 8-9:30pm Gulf / 12-1:30pm Eastern / 11am-12:30pm Central / 9-10:30am Pacific/Arizona. \nAudience\nThis workshop is designed first and foremost for graduate students and postdoctoral researchers in STEM/SBE disciplines\, but generally relevant to anyone interested in an introduction to teaching demonstrations. \nRegistration and Enrollment\n***Registration is closed as of 9/22*** \nCap: 60. Registration is now open and will close once capacity is reached. Registration will be processed on a first-come\, first-served basis and registrants from CIRTL member institutions or alumni of CIRTL member institutions will receive priority. Once registration closes\, all registrants will be notified of their enrollment status. \nAccessibility\nIf you have access needs\, please let us know what they are. Contact David Larson (dlarson23@wisc.edu) to let us know how we can help you have a successful experience. In addition to meeting individualized needs\, we will also take measures throughout the workshop to support accessibility for all our students: \n\nSending pre-session reminders to all students\nSharing resources from synchronous sessions with students\nEnabling live captioning in synchronous sessions\nIncorporating multiple modes of interaction into synchronous sessions\n\n\nAbout CIRTL Programming\nCIRTL Network programming is designed to develop future faculty committed to implementing and advancing evidence-based teaching practices to create undergraduate educational experiences that are accessible to all learners. Participants can explore our programming in any order\, and to whatever extent supports your own teaching development needs and interests. To help participants understand what they can expect across all our programming\, all CIRTL programming aligns with four broad learning goals; within those goals\, programming might provide participants with an introductory\, intermediate\, or advanced learning experience. \nThis course supports the following CIRTL learning goals at an introductory level: \n\nGoal 4: Prepare for an impactful career. See more Goal 4 programming.
URL:https://cirtl.net/event/preparing-a-teaching-demo-for-a-job-interview-4/
CATEGORIES:Workshop
END:VEVENT
BEGIN:VEVENT
DTSTART;TZID=America/Chicago:20251007T110000
DTEND;TZID=America/Chicago:20251007T123000
DTSTAMP:20260423T231325
CREATED:20250812T144110Z
LAST-MODIFIED:20250924T133449Z
UID:10002920-1759834800-1759840200@cirtl.net
SUMMARY:Writing an Effective Teaching Philosophy Statement (October)
DESCRIPTION:Learn what a teaching philosophy statement is and how they are used in the academic job hunt\, and explore your own teaching philosophy in a writing group of peers in this interactive\, two-part online workshop. We will discuss elements of teaching statements\, evidence of effective teaching tailored for different academic jobs\, and strategies to get started or polish existing teaching statements. Participants from all disciplines will become better equipped and prepared to communicate their teaching practice through this workshop’s small group writing and feedback process. By the end of this workshop\, participants will be able to: \n\nUnderstand common components of a teaching philosophy statement\nIdentify their own teaching accomplishments\, beliefs\, and goals\nDraft a teaching philosophy statement\nRefine their work through peer review feedback\n\nInstructors\nKristin Winet\, University of Arizona\nErin Galyen\, University of Arizona \nWorkshop Schedule\nThis workshop meets in Zoom on Tuesday\, October 7 and 14 at 8-9:30pm Gulf / 12-1:30pm Eastern / 11am-12:30pm Central / 9-10:30am Pacific/Arizona. \nAudience\nThis workshop is designed first and foremost for graduate students and postdoctoral researchers in STEM/SBE disciplines\, but generally relevant to anyone looking to develop or refine their teaching statement. \nRegistration & Enrollment\n**At capacity and closed for registration as of Wednesday\, September 24th** \nCap: 50. Enrollment will be processed on a first-come\, first-served basis; registrants who are from CIRTL member institutions or CIRTL alumni will receive priority. \nAccessibility\nIf you have access needs\, please let us know what they are. Contact Zoe Zuleger (zmzuleger@wisc.edu)\, who is supporting this workshop\, to let us know how we can help you have a successful experience. In addition to meeting individualized needs\, we will also take measures throughout the workshop to support accessibility for all our students: \n\nUsing alt-text on images in reading materials\nSending pre-session reminders with upcoming assignments to all students\nSharing materials for synchronous sessions with students (slides\, activity instructions\, etc.)\nEnabling live captioning in synchronous sessions\nIncorporating multiple modes of interaction into synchronous sessions\n\n\nAbout CIRTL Programming\nCIRTL Network programming is designed to develop future faculty committed to implementing and advancing evidence-based teaching practices to create undergraduate educational experiences that are accessible to all learners. Participants can explore our programming in any order\, and to whatever extent supports your own teaching development needs and interests. To help participants understand what they can expect across all our programming\, all CIRTL programming aligns with four broad learning goals; within those goals\, programming might provide participants with an introductory\, intermediate\, or advanced learning experience. \nThis course supports the following CIRTL learning goals at an introductory level: \n\nGoal 4: Prepare for an impactful career. See more Goal 4 programming.
URL:https://cirtl.net/event/writing-an-effective-teaching-philosophy-statement-october/2025-10-07/
CATEGORIES:Workshop
END:VEVENT
BEGIN:VEVENT
DTSTART;TZID=America/Chicago:20251010T130000
DTEND;TZID=America/Chicago:20251010T143000
DTSTAMP:20260423T231325
CREATED:20250828T181621Z
LAST-MODIFIED:20250915T145939Z
UID:10002926-1760101200-1760106600@cirtl.net
SUMMARY:Effective Assessment Strategies for Large Undergraduate Courses
DESCRIPTION:Learn more about scalable\, innovative assessment strategies tailored for large undergraduate courses where instructors face time and workload challenges in this workshop. Participants will explore diverse methods\, including self-grading\, peer assessment\, rubrics for actionable feedback\, and technology-enhanced tools like e-assessments and interactive eBooks. Through case studies\, practical examples\, and collaborative activities\, attendees will develop a mini action plan to implement effective assessments in their own teaching contexts. By the end of this workshop\, participants will be prepared to: \n\nIdentify common challenges in assessing large undergraduate courses\nExplore rubrics in examples to streamline grading and feedback via different assessment methods\nDevelop a mini action plan for implementing scalable assessments in participants’ own contexts\n\nInstructors\nXiaoxia Zhang\, Indiana University \nWorkshop Schedule\nThis one-session workshop meets online in Zoom on Friday\, October 10th at 10-11:30pm Gulf / 2-3:30pm Eastern / 1-2:30pm Central / 11am-12:30pm Pacific/Arizona. \nAudience\nThis workshop is designed for participants who would like to learn more about assessment strategies for large undergraduate courses. \nRegistration and Enrollment\nNo cap\, registration opens on Monday\, September 15th at 10am CT and closes on the day of the workshop. \nREGISTER NOW \nAccessibility\nIf you have access needs\, please let us know what they are. Contact Zoe Zuleger (zmzuleger@wisc.edu)\, who is supporting this workshop\, to let us know how we can help you have a successful experience. In addition to meeting individualized needs\, we will also take measures throughout the workshop to support accessibility for all our students: \n\nUsing alt-text on images in reading materials\nSending pre-session reminders to all students\nSharing materials for synchronous sessions with students (slides\, activity instructions\, etc.)\nEnabling live captioning in synchronous sessions\nIncorporating multiple modes of interaction into synchronous sessions\n\n\nAbout CIRTL Programming\nCIRTL Network programming is designed to develop future faculty committed to implementing and advancing evidence-based teaching practices to create undergraduate educational experiences that are accessible to all learners. Participants can explore our programming in any order\, and to whatever extent supports your own teaching development needs and interests. To help participants understand what they can expect across all our programming\, all CIRTL programming aligns with four broad learning goals; within those goals\, programming might provide participants with an introductory\, intermediate\, or advanced learning experience. \nThis course supports the following CIRTL learning goals at an introductory and intermediate level: \n\nGoal 1: Develop evidence-based teaching knowledge. See more Goal 1 programming.\nGoal 2: Connect with community to enhance teaching. See more Goal 2 programming.
URL:https://cirtl.net/event/effective-assessment-strategies-for-large-undergraduate-courses/
CATEGORIES:Workshop
END:VEVENT
BEGIN:VEVENT
DTSTART;TZID=America/Chicago:20251014T110000
DTEND;TZID=America/Chicago:20251014T123000
DTSTAMP:20260423T231325
CREATED:20250812T144110Z
LAST-MODIFIED:20250924T133449Z
UID:10002921-1760439600-1760445000@cirtl.net
SUMMARY:Writing an Effective Teaching Philosophy Statement (October)
DESCRIPTION:Learn what a teaching philosophy statement is and how they are used in the academic job hunt\, and explore your own teaching philosophy in a writing group of peers in this interactive\, two-part online workshop. We will discuss elements of teaching statements\, evidence of effective teaching tailored for different academic jobs\, and strategies to get started or polish existing teaching statements. Participants from all disciplines will become better equipped and prepared to communicate their teaching practice through this workshop’s small group writing and feedback process. By the end of this workshop\, participants will be able to: \n\nUnderstand common components of a teaching philosophy statement\nIdentify their own teaching accomplishments\, beliefs\, and goals\nDraft a teaching philosophy statement\nRefine their work through peer review feedback\n\nInstructors\nKristin Winet\, University of Arizona\nErin Galyen\, University of Arizona \nWorkshop Schedule\nThis workshop meets in Zoom on Tuesday\, October 7 and 14 at 8-9:30pm Gulf / 12-1:30pm Eastern / 11am-12:30pm Central / 9-10:30am Pacific/Arizona. \nAudience\nThis workshop is designed first and foremost for graduate students and postdoctoral researchers in STEM/SBE disciplines\, but generally relevant to anyone looking to develop or refine their teaching statement. \nRegistration & Enrollment\n**At capacity and closed for registration as of Wednesday\, September 24th** \nCap: 50. Enrollment will be processed on a first-come\, first-served basis; registrants who are from CIRTL member institutions or CIRTL alumni will receive priority. \nAccessibility\nIf you have access needs\, please let us know what they are. Contact Zoe Zuleger (zmzuleger@wisc.edu)\, who is supporting this workshop\, to let us know how we can help you have a successful experience. In addition to meeting individualized needs\, we will also take measures throughout the workshop to support accessibility for all our students: \n\nUsing alt-text on images in reading materials\nSending pre-session reminders with upcoming assignments to all students\nSharing materials for synchronous sessions with students (slides\, activity instructions\, etc.)\nEnabling live captioning in synchronous sessions\nIncorporating multiple modes of interaction into synchronous sessions\n\n\nAbout CIRTL Programming\nCIRTL Network programming is designed to develop future faculty committed to implementing and advancing evidence-based teaching practices to create undergraduate educational experiences that are accessible to all learners. Participants can explore our programming in any order\, and to whatever extent supports your own teaching development needs and interests. To help participants understand what they can expect across all our programming\, all CIRTL programming aligns with four broad learning goals; within those goals\, programming might provide participants with an introductory\, intermediate\, or advanced learning experience. \nThis course supports the following CIRTL learning goals at an introductory level: \n\nGoal 4: Prepare for an impactful career. See more Goal 4 programming.
URL:https://cirtl.net/event/writing-an-effective-teaching-philosophy-statement-october/2025-10-14/
CATEGORIES:Workshop
END:VEVENT
BEGIN:VEVENT
DTSTART;TZID=America/Chicago:20251020T100000
DTEND;TZID=America/Chicago:20251020T120000
DTSTAMP:20260423T231325
CREATED:20250418T173937Z
LAST-MODIFIED:20251020T162908Z
UID:10002875-1760954400-1760961600@cirtl.net
SUMMARY:Scaffolding Students’ Success as Independent Learners: Developing Instructional Materials Using Self-Regulated Learning Principles
DESCRIPTION:Gain practical skills to scaffold students’ development as independent learners using principles from self-regulated learning. This framework is goal-directed\, and emphasizes the active role students can take in guiding their learning. Students’ implementation of these skills has been linked to many adaptive and positive academic outcomes. In this workshop\, participants will explore practical methods to embed the teaching of self-regulated learning skills into their regular instruction\, and learn how to feel more confident in their ability to design instructional materials that can help students take the initiative to plan\, direct\, and reflect on their own learning processes. By the end of this workshop\, participants will be able to: \n\nArticulate the value of self-regulated learning processes (i.e.\, planning\, monitoring/control\, and reflection) in promoting student success\nDesign instructional materials to support students in developing disciplinary-based self-regulated learning skills\n\nInstructors\nAugust Masonheimer\, Purdue University\nErin Mercurio\, The Ohio State University \nWorkshop Schedule\nThis two-part online workshop meets in Zoom on Monday\, October 20th at 7-9pm Gulf / 11am-1pm Eastern / 10am-12pm Central / 8-10am Pacific/Arizona and Monday\, November 3rd at 8-10pm Gulf / 11am-1pm Eastern / 10am-12pm Central / 9-11am Arizona / 8-10am Pacific. \nAudience\nThis workshop is designed for participants with teaching experience who want to develop practical skills and instructional materials that help students reflect on their own learning processes. \nRegistration and Enrollment\n**At capacity and closed for registration as of Thursday\, October 16th** \nCap: 40. Registration will be processed on a first-come\, first-served basis and registrants from CIRTL member institutions or alumni of CIRTL member institutions will receive priority. Once registration closes\, all registrants will be notified of their enrollment status. \nAccessibility\nIf you have access needs\, please let us know what they are. Contact Zoe Zuleger (zmzuleger@wisc.edu) who is supporting this workshop\, to let us know how we can help you have a successful experience. In addition to meeting individualized needs\, we will also take measures throughout the workshop to support accessibility for all our students: \n\nSending pre-session reminders with upcoming assignments to all students\nSharing materials for synchronous sessions with students (slides\, activity instructions\, etc.)\nEnabling live captioning in synchronous sessions\nIncorporating multiple modes of interaction into synchronous sessions\n\n\nAbout CIRTL Programming\nCIRTL Network programming is designed to develop future faculty committed to implementing and advancing evidence-based teaching practices to create undergraduate educational experiences that are accessible to all learners. Participants can explore our programming in any order\, and to whatever extent supports your own teaching development needs and interests. To help participants understand what they can expect across all our programming\, all CIRTL programming aligns with four broad learning goals; within those goals\, programming might provide participants with an introductory\, intermediate\, or advanced learning experience. \nThis course supports the following CIRTL learning goals at an introductory level: \n\nGoal 1: Develop evidence-based teaching knowledge. See more Goal 1 programming.\nGoal 3: Cultivate teaching skills through reflective improvement. See more Goal 3 programming.
URL:https://cirtl.net/event/scaffolding-students-success-as-independent-learners-developing-instructional-materials-using-self-regulated-learning-principles/2025-10-20/
CATEGORIES:Workshop
END:VEVENT
BEGIN:VEVENT
DTSTART;TZID=America/Chicago:20251023T100000
DTEND;TZID=America/Chicago:20251023T120000
DTSTAMP:20260423T231325
CREATED:20250804T202234Z
LAST-MODIFIED:20250929T152748Z
UID:10002897-1761213600-1761220800@cirtl.net
SUMMARY:Fostering a Growth Mindset and Developing a Sense of Belonging in Your Students
DESCRIPTION:Learn from social and educational psychology in this one-part workshop on how instructors can foster growth mindsets in their students\, and how that in turn can foster greater student motivation\, achievement\, and belonging. What factors hold back or push students forward in learning and performing the best they can? How do students react to successes and challenges? By the end of this workshop\, participants will be prepared to: \n\nUnderstand the differences and relationship between growth mindset and sense of belonging\nConsider how students’ and instructors’ mindsets can impact student achievement and motivation\nIdentify concrete strategies to foster a growth mindset and sense of belonging in students\n\nInstructors\nEmily Potratz\, University of Illinois at Chicago\nLauren Woods\, University of Illinois at Chicago \nWorkshop Schedule\nThis one-session workshop meets online in Zoom on Thursday\, October 23rd at 7-9pm Gulf / 11am-1pm Eastern / 10am-12pm Central / 8-10am Pacific/Arizona. \nAudience\nThis workshop is for any educator interested in learning more about how to foster a growth mindset and develop a sense of belonging in their students. \nRegistration and Enrollment\nNo cap; registration opens on Monday\, September 29th at 10am CT and closes the day of the workshop.\nREGISTER NOW \nAccessibility\nIf you have access needs\, please let us know what they are. Contact Zoe Zuleger (zmzuleger@wisc.edu)\, who is supporting this workshop\, to let us know how we can help you have a successful experience. In addition to meeting individualized needs\, we will also take measures throughout the workshop to support accessibility for all our students: \n\nUsing alt-text on images in reading materials\nSending pre-session reminders to all students\nSharing materials for synchronous sessions with students (slides\, activity instructions\, etc.)\nEnabling live captioning in synchronous sessions\nIncorporating multiple modes of interaction into synchronous sessions\n\n\nAbout CIRTL Programming\nCIRTL Network programming is designed to develop future faculty committed to implementing and advancing evidence-based teaching practices to create undergraduate educational experiences that are accessible to all learners. Participants can explore our programming in any order\, and to whatever extent supports your own teaching development needs and interests. To help participants understand what they can expect across all our programming\, all CIRTL programming aligns with four broad learning goals; within those goals\, programming might provide participants with an introductory\, intermediate\, or advanced learning experience. \nThis course supports the following CIRTL learning goals at an introductory level: \n\nGoal 1: Develop evidence-based teaching knowledge. See more Goal 1 programming.\nGoal 3: Cultivate teaching skills through reflective improvement. See more Goal 3 programming.
URL:https://cirtl.net/event/fostering-a-growth-mindset-and-developing-a-sense-of-belonging-in-your-students-2/
CATEGORIES:Workshop
END:VEVENT
END:VCALENDAR