BEGIN:VCALENDAR
VERSION:2.0
PRODID:-//CIRTL Network - ECPv6.15.20//NONSGML v1.0//EN
CALSCALE:GREGORIAN
METHOD:PUBLISH
X-WR-CALNAME:CIRTL Network
X-ORIGINAL-URL:https://cirtl.net
X-WR-CALDESC:Events for CIRTL Network
REFRESH-INTERVAL;VALUE=DURATION:PT1H
X-Robots-Tag:noindex
X-PUBLISHED-TTL:PT1H
BEGIN:VTIMEZONE
TZID:America/Chicago
BEGIN:DAYLIGHT
TZOFFSETFROM:-0600
TZOFFSETTO:-0500
TZNAME:CDT
DTSTART:20220313T080000
END:DAYLIGHT
BEGIN:STANDARD
TZOFFSETFROM:-0500
TZOFFSETTO:-0600
TZNAME:CST
DTSTART:20221106T070000
END:STANDARD
BEGIN:DAYLIGHT
TZOFFSETFROM:-0600
TZOFFSETTO:-0500
TZNAME:CDT
DTSTART:20230312T080000
END:DAYLIGHT
BEGIN:STANDARD
TZOFFSETFROM:-0500
TZOFFSETTO:-0600
TZNAME:CST
DTSTART:20231105T070000
END:STANDARD
BEGIN:DAYLIGHT
TZOFFSETFROM:-0600
TZOFFSETTO:-0500
TZNAME:CDT
DTSTART:20240310T080000
END:DAYLIGHT
BEGIN:STANDARD
TZOFFSETFROM:-0500
TZOFFSETTO:-0600
TZNAME:CST
DTSTART:20241103T070000
END:STANDARD
END:VTIMEZONE
BEGIN:VEVENT
DTSTART;TZID=America/Chicago:20231102T110000
DTEND;TZID=America/Chicago:20231102T123000
DTSTAMP:20260425T063718
CREATED:20230807T211008Z
LAST-MODIFIED:20231026T153713Z
UID:10000619-1698922800-1698928200@cirtl.net
SUMMARY:Teaching with Transparency: Evidence-Based Approaches to Foster Student Motivation and Engagement
DESCRIPTION:REGISTER BY NOVEMBER 2 \nLearn how adding transparency into your teaching can strengthen active learning\, assignments\, and assessment in this one-part workshop. Participants will be encouraged to apply new ideas and information related to transparency to your own instruction or to an imagined course and will be provided opportunities to share and receive feedback from peers. By the end of this workshop\, participants will be able to: \n\nDescribe transparency in teaching as it relates to active learning implementation strategies\, assignment design\, and use of assessment in the teaching and learning process.\nPlan new\, transparent approaches to instruction designed to foster student motivation and engagement.\n\nThis workshop is part of CIRTL’s fall programming on evidence-based teaching fundamentals. \nInstructors\nDave Sovic\, The Ohio State University \nWorkshop Schedule\nThis workshop meets in Zoom on Thursday\, November 2 at 1-2:30PM AT / 12-1:30PM ET / 11AM-12:30PM CT / 10-11:30AM MT / 9-10:30AM PT. \nAudience\nThis workshop is designed first and foremost for graduate students\, postdoctoral researchers\, faculty\, instructional staff\, and staff in STEM/SBE disciplines\, but generally relevant to anyone looking to get an introduction to active learning\, assessment\, and student engagement. \nRegistration & Enrollment\nNo cap. Registration opens Monday\, August 14 and closes Thursday\, November 2.\nREGISTER BY NOVEMBER 2 \nAccessibility\nIf you have a disability\, please let us know your learning needs. Contact Kate Diamond (kdiamond3@wisc.edu)\, who is supporting this workshop\, to let us know how we can help you have a successful experience. In addition to meeting individualized needs\, we will also take measures throughout the workshop to support accessibility for all our students: \n\nUsing alt-text on images in reading materials\nSending pre-session reminders with upcoming assignments to all students\nSharing materials for synchronous sessions with students (slides\, activity instructions\, etc.)\nEnabling live captioning in synchronous sessions\nIncorporating multiple modes of interaction into synchronous sessions\n\nLearning Outcomes\nAll CIRTL Network programming is designed to help participants achieve familiarity with our Core Ideas. This workshop is designed around the following learning outcomes. \nAssociate: Evidence-based teaching\n\nDescribe several known high-impact\, evidence-based effective instructional practices and materials and recognize their alignment with particular types of learning goals\n\nAssociate: Learning-through-diversity\n\nDescribe the impact of diversity on student learning\, in particular how diversity can enhance learning\, and how inequities can negatively impact learning if not addressed
URL:https://cirtl.net/event/teaching-with-transparency-evidence-based-approaches-to-foster-student-motivation-and-engagement/
CATEGORIES:Workshop
END:VEVENT
BEGIN:VEVENT
DTSTART;TZID=America/Chicago:20231107T130000
DTEND;TZID=America/Chicago:20231107T143000
DTSTAMP:20260425T063718
CREATED:20230728T175214Z
LAST-MODIFIED:20230925T155722Z
UID:10000597-1699362000-1699367400@cirtl.net
SUMMARY:The College Classroom
DESCRIPTION:Get an introduction to key learning principles and the basics of effective\, evidence-based teaching practices in this 12-week course about teaching in the college classroom. This course will focus on developing inclusive\, learner-centered approaches to teaching. Participants will explore the interconnectedness of learning objectives\, assessment\, and learning activities through both discussion of course materials and developing and practicing their own lesson plan.  In this course\, participants will \n\nExplore inclusive\, learner-centered teaching theories and practices\nRead and discuss literature on effective teaching and learning\nApply evidence-based strategies to your teaching practice\nCreate connections between learning objectives\, assessments\, and learning activities in order to build and teach a lesson plan\nReflect on personal teaching values and decision making\n\nThis course is part of CIRTL’s fall programming on evidence-based teaching fundamentals. \nInstructors\nLisa Rohde\, University of Nebraska – Lincoln\nPeggy Semingson\, University of Texas at Arlington\nTiffany Shoop\, Virginia Tech \nCourse Schedule\nThis course meets in Zoom on Tuesdays\, September 26 through December 12\, at 3-4:30PM AT / 2-3:30PM ET / 1-2:30PM CT / 12-1:30PM MT / 11AM-12:30PM PT. \nAudience\nThis course is designed first and foremost for graduate students\, postdoctoral researchers\, and early career faculty in STEM/SBE disciplines\, but generally relevant to anyone looking to improve their foundational college-level teaching and learning skills and knowledge. \nRegistration & Enrollment\nNo cap. Registration opens on Monday\, August 14\, and closes Tuesday\, September 18. \nAccessibility\nIf you have a disability\, please let us know your learning needs. Contact Kate Diamond (kdiamond3@wisc.edu)\, who is supporting this course\, to let us know how we can help you have a successful experience. In addition to meeting individualized needs\, we will also take measures throughout the course to support accessibility for all our students: \n\nUsing alt-text on images in reading materials\nSending weekly reminders with upcoming assignments to all students\nSending weekly reminders with missing assignments to students who have late work\nSharing materials for synchronous sessions with students via Moodle (slides\, breakout group activity instructions\, etc.)\nEnabling live captioning in synchronous sessions\nIncorporating multiple modes of interaction into synchronous sessions\nSharing recordings from synchronous sessions\nAllowing students to make up absences and submit work late with no penalty\n\nLearning Outcomes\nAll CIRTL Network programming is designed to help participants achieve familiarity with our Core Ideas. This course is designed around the following learning outcomes. \nAssociate: Evidence-based teaching\n\nDescribe and recognize the value of realistic well-defined\, achievable\, measurable and student-centered learning goals.\nDescribe several assessment techniques and recognize their alignment with particular types of learning goals.\nDescribe several known high-impact\, evidence-based effective instructional practices and materials and recognize their alignment with particular types of learning goals.\n\nAssociate: Learning Community\n\nDescribe and recognize the value of learning communities\, and how they impact on student learning.\nDescribe several techniques and issues of establishing LCs comprising a diverse group of learners.\nDescribe several techniques for creating a LC within a learning environment\, including strategies that promote positive interdependence between learners so as to accomplish learning goals.\n\nAssociate: Learning-through-Diversity\n\nDescribe how an instructor’s beliefs and biases can influence student learning.\nDescribe the impact of diversity on student learning\, in particular how diversity can enhance learning\, and how inequities can negatively impact learning if not addressed.\nDescribe the scope of diversity in learning environments\, of both students and instructor.\n\nAssociate: Teaching as Research\n\nDescribe a “full-inquiry” cycle.\n\nPractitioner: Evidence-Based Teaching\n\nAccess the literature and existing knowledge to develop a deeper understanding of existing evidence- based knowledge concerning high- impact\, evidence-based teaching practices.\n\nPractitioner: Learning-through-Diversity\n\nAccess the literature and existing knowledge to develop a deeper understanding diversity and its impact on accomplishing learning goals.
URL:https://cirtl.net/event/the-college-classroom-2/2023-11-07/
CATEGORIES:Course
END:VEVENT
BEGIN:VEVENT
DTSTART;TZID=America/Chicago:20231114T130000
DTEND;TZID=America/Chicago:20231114T143000
DTSTAMP:20260425T063718
CREATED:20230728T175214Z
LAST-MODIFIED:20230925T155722Z
UID:10000598-1699966800-1699972200@cirtl.net
SUMMARY:The College Classroom
DESCRIPTION:Get an introduction to key learning principles and the basics of effective\, evidence-based teaching practices in this 12-week course about teaching in the college classroom. This course will focus on developing inclusive\, learner-centered approaches to teaching. Participants will explore the interconnectedness of learning objectives\, assessment\, and learning activities through both discussion of course materials and developing and practicing their own lesson plan.  In this course\, participants will \n\nExplore inclusive\, learner-centered teaching theories and practices\nRead and discuss literature on effective teaching and learning\nApply evidence-based strategies to your teaching practice\nCreate connections between learning objectives\, assessments\, and learning activities in order to build and teach a lesson plan\nReflect on personal teaching values and decision making\n\nThis course is part of CIRTL’s fall programming on evidence-based teaching fundamentals. \nInstructors\nLisa Rohde\, University of Nebraska – Lincoln\nPeggy Semingson\, University of Texas at Arlington\nTiffany Shoop\, Virginia Tech \nCourse Schedule\nThis course meets in Zoom on Tuesdays\, September 26 through December 12\, at 3-4:30PM AT / 2-3:30PM ET / 1-2:30PM CT / 12-1:30PM MT / 11AM-12:30PM PT. \nAudience\nThis course is designed first and foremost for graduate students\, postdoctoral researchers\, and early career faculty in STEM/SBE disciplines\, but generally relevant to anyone looking to improve their foundational college-level teaching and learning skills and knowledge. \nRegistration & Enrollment\nNo cap. Registration opens on Monday\, August 14\, and closes Tuesday\, September 18. \nAccessibility\nIf you have a disability\, please let us know your learning needs. Contact Kate Diamond (kdiamond3@wisc.edu)\, who is supporting this course\, to let us know how we can help you have a successful experience. In addition to meeting individualized needs\, we will also take measures throughout the course to support accessibility for all our students: \n\nUsing alt-text on images in reading materials\nSending weekly reminders with upcoming assignments to all students\nSending weekly reminders with missing assignments to students who have late work\nSharing materials for synchronous sessions with students via Moodle (slides\, breakout group activity instructions\, etc.)\nEnabling live captioning in synchronous sessions\nIncorporating multiple modes of interaction into synchronous sessions\nSharing recordings from synchronous sessions\nAllowing students to make up absences and submit work late with no penalty\n\nLearning Outcomes\nAll CIRTL Network programming is designed to help participants achieve familiarity with our Core Ideas. This course is designed around the following learning outcomes. \nAssociate: Evidence-based teaching\n\nDescribe and recognize the value of realistic well-defined\, achievable\, measurable and student-centered learning goals.\nDescribe several assessment techniques and recognize their alignment with particular types of learning goals.\nDescribe several known high-impact\, evidence-based effective instructional practices and materials and recognize their alignment with particular types of learning goals.\n\nAssociate: Learning Community\n\nDescribe and recognize the value of learning communities\, and how they impact on student learning.\nDescribe several techniques and issues of establishing LCs comprising a diverse group of learners.\nDescribe several techniques for creating a LC within a learning environment\, including strategies that promote positive interdependence between learners so as to accomplish learning goals.\n\nAssociate: Learning-through-Diversity\n\nDescribe how an instructor’s beliefs and biases can influence student learning.\nDescribe the impact of diversity on student learning\, in particular how diversity can enhance learning\, and how inequities can negatively impact learning if not addressed.\nDescribe the scope of diversity in learning environments\, of both students and instructor.\n\nAssociate: Teaching as Research\n\nDescribe a “full-inquiry” cycle.\n\nPractitioner: Evidence-Based Teaching\n\nAccess the literature and existing knowledge to develop a deeper understanding of existing evidence- based knowledge concerning high- impact\, evidence-based teaching practices.\n\nPractitioner: Learning-through-Diversity\n\nAccess the literature and existing knowledge to develop a deeper understanding diversity and its impact on accomplishing learning goals.
URL:https://cirtl.net/event/the-college-classroom-2/2023-11-14/
CATEGORIES:Course
END:VEVENT
BEGIN:VEVENT
DTSTART;TZID=America/Chicago:20231121T130000
DTEND;TZID=America/Chicago:20231121T143000
DTSTAMP:20260425T063718
CREATED:20230728T175214Z
LAST-MODIFIED:20230925T155722Z
UID:10000599-1700571600-1700577000@cirtl.net
SUMMARY:The College Classroom
DESCRIPTION:Get an introduction to key learning principles and the basics of effective\, evidence-based teaching practices in this 12-week course about teaching in the college classroom. This course will focus on developing inclusive\, learner-centered approaches to teaching. Participants will explore the interconnectedness of learning objectives\, assessment\, and learning activities through both discussion of course materials and developing and practicing their own lesson plan.  In this course\, participants will \n\nExplore inclusive\, learner-centered teaching theories and practices\nRead and discuss literature on effective teaching and learning\nApply evidence-based strategies to your teaching practice\nCreate connections between learning objectives\, assessments\, and learning activities in order to build and teach a lesson plan\nReflect on personal teaching values and decision making\n\nThis course is part of CIRTL’s fall programming on evidence-based teaching fundamentals. \nInstructors\nLisa Rohde\, University of Nebraska – Lincoln\nPeggy Semingson\, University of Texas at Arlington\nTiffany Shoop\, Virginia Tech \nCourse Schedule\nThis course meets in Zoom on Tuesdays\, September 26 through December 12\, at 3-4:30PM AT / 2-3:30PM ET / 1-2:30PM CT / 12-1:30PM MT / 11AM-12:30PM PT. \nAudience\nThis course is designed first and foremost for graduate students\, postdoctoral researchers\, and early career faculty in STEM/SBE disciplines\, but generally relevant to anyone looking to improve their foundational college-level teaching and learning skills and knowledge. \nRegistration & Enrollment\nNo cap. Registration opens on Monday\, August 14\, and closes Tuesday\, September 18. \nAccessibility\nIf you have a disability\, please let us know your learning needs. Contact Kate Diamond (kdiamond3@wisc.edu)\, who is supporting this course\, to let us know how we can help you have a successful experience. In addition to meeting individualized needs\, we will also take measures throughout the course to support accessibility for all our students: \n\nUsing alt-text on images in reading materials\nSending weekly reminders with upcoming assignments to all students\nSending weekly reminders with missing assignments to students who have late work\nSharing materials for synchronous sessions with students via Moodle (slides\, breakout group activity instructions\, etc.)\nEnabling live captioning in synchronous sessions\nIncorporating multiple modes of interaction into synchronous sessions\nSharing recordings from synchronous sessions\nAllowing students to make up absences and submit work late with no penalty\n\nLearning Outcomes\nAll CIRTL Network programming is designed to help participants achieve familiarity with our Core Ideas. This course is designed around the following learning outcomes. \nAssociate: Evidence-based teaching\n\nDescribe and recognize the value of realistic well-defined\, achievable\, measurable and student-centered learning goals.\nDescribe several assessment techniques and recognize their alignment with particular types of learning goals.\nDescribe several known high-impact\, evidence-based effective instructional practices and materials and recognize their alignment with particular types of learning goals.\n\nAssociate: Learning Community\n\nDescribe and recognize the value of learning communities\, and how they impact on student learning.\nDescribe several techniques and issues of establishing LCs comprising a diverse group of learners.\nDescribe several techniques for creating a LC within a learning environment\, including strategies that promote positive interdependence between learners so as to accomplish learning goals.\n\nAssociate: Learning-through-Diversity\n\nDescribe how an instructor’s beliefs and biases can influence student learning.\nDescribe the impact of diversity on student learning\, in particular how diversity can enhance learning\, and how inequities can negatively impact learning if not addressed.\nDescribe the scope of diversity in learning environments\, of both students and instructor.\n\nAssociate: Teaching as Research\n\nDescribe a “full-inquiry” cycle.\n\nPractitioner: Evidence-Based Teaching\n\nAccess the literature and existing knowledge to develop a deeper understanding of existing evidence- based knowledge concerning high- impact\, evidence-based teaching practices.\n\nPractitioner: Learning-through-Diversity\n\nAccess the literature and existing knowledge to develop a deeper understanding diversity and its impact on accomplishing learning goals.
URL:https://cirtl.net/event/the-college-classroom-2/2023-11-21/
CATEGORIES:Course
END:VEVENT
BEGIN:VEVENT
DTSTART;TZID=America/Chicago:20231128T130000
DTEND;TZID=America/Chicago:20231128T143000
DTSTAMP:20260425T063718
CREATED:20230728T175214Z
LAST-MODIFIED:20230925T155722Z
UID:10000600-1701176400-1701181800@cirtl.net
SUMMARY:The College Classroom
DESCRIPTION:Get an introduction to key learning principles and the basics of effective\, evidence-based teaching practices in this 12-week course about teaching in the college classroom. This course will focus on developing inclusive\, learner-centered approaches to teaching. Participants will explore the interconnectedness of learning objectives\, assessment\, and learning activities through both discussion of course materials and developing and practicing their own lesson plan.  In this course\, participants will \n\nExplore inclusive\, learner-centered teaching theories and practices\nRead and discuss literature on effective teaching and learning\nApply evidence-based strategies to your teaching practice\nCreate connections between learning objectives\, assessments\, and learning activities in order to build and teach a lesson plan\nReflect on personal teaching values and decision making\n\nThis course is part of CIRTL’s fall programming on evidence-based teaching fundamentals. \nInstructors\nLisa Rohde\, University of Nebraska – Lincoln\nPeggy Semingson\, University of Texas at Arlington\nTiffany Shoop\, Virginia Tech \nCourse Schedule\nThis course meets in Zoom on Tuesdays\, September 26 through December 12\, at 3-4:30PM AT / 2-3:30PM ET / 1-2:30PM CT / 12-1:30PM MT / 11AM-12:30PM PT. \nAudience\nThis course is designed first and foremost for graduate students\, postdoctoral researchers\, and early career faculty in STEM/SBE disciplines\, but generally relevant to anyone looking to improve their foundational college-level teaching and learning skills and knowledge. \nRegistration & Enrollment\nNo cap. Registration opens on Monday\, August 14\, and closes Tuesday\, September 18. \nAccessibility\nIf you have a disability\, please let us know your learning needs. Contact Kate Diamond (kdiamond3@wisc.edu)\, who is supporting this course\, to let us know how we can help you have a successful experience. In addition to meeting individualized needs\, we will also take measures throughout the course to support accessibility for all our students: \n\nUsing alt-text on images in reading materials\nSending weekly reminders with upcoming assignments to all students\nSending weekly reminders with missing assignments to students who have late work\nSharing materials for synchronous sessions with students via Moodle (slides\, breakout group activity instructions\, etc.)\nEnabling live captioning in synchronous sessions\nIncorporating multiple modes of interaction into synchronous sessions\nSharing recordings from synchronous sessions\nAllowing students to make up absences and submit work late with no penalty\n\nLearning Outcomes\nAll CIRTL Network programming is designed to help participants achieve familiarity with our Core Ideas. This course is designed around the following learning outcomes. \nAssociate: Evidence-based teaching\n\nDescribe and recognize the value of realistic well-defined\, achievable\, measurable and student-centered learning goals.\nDescribe several assessment techniques and recognize their alignment with particular types of learning goals.\nDescribe several known high-impact\, evidence-based effective instructional practices and materials and recognize their alignment with particular types of learning goals.\n\nAssociate: Learning Community\n\nDescribe and recognize the value of learning communities\, and how they impact on student learning.\nDescribe several techniques and issues of establishing LCs comprising a diverse group of learners.\nDescribe several techniques for creating a LC within a learning environment\, including strategies that promote positive interdependence between learners so as to accomplish learning goals.\n\nAssociate: Learning-through-Diversity\n\nDescribe how an instructor’s beliefs and biases can influence student learning.\nDescribe the impact of diversity on student learning\, in particular how diversity can enhance learning\, and how inequities can negatively impact learning if not addressed.\nDescribe the scope of diversity in learning environments\, of both students and instructor.\n\nAssociate: Teaching as Research\n\nDescribe a “full-inquiry” cycle.\n\nPractitioner: Evidence-Based Teaching\n\nAccess the literature and existing knowledge to develop a deeper understanding of existing evidence- based knowledge concerning high- impact\, evidence-based teaching practices.\n\nPractitioner: Learning-through-Diversity\n\nAccess the literature and existing knowledge to develop a deeper understanding diversity and its impact on accomplishing learning goals.
URL:https://cirtl.net/event/the-college-classroom-2/2023-11-28/
CATEGORIES:Course
END:VEVENT
END:VCALENDAR