BEGIN:VCALENDAR
VERSION:2.0
PRODID:-//CIRTL Network - ECPv6.15.20//NONSGML v1.0//EN
CALSCALE:GREGORIAN
METHOD:PUBLISH
X-WR-CALNAME:CIRTL Network
X-ORIGINAL-URL:https://cirtl.net
X-WR-CALDESC:Events for CIRTL Network
REFRESH-INTERVAL;VALUE=DURATION:PT1H
X-Robots-Tag:noindex
X-PUBLISHED-TTL:PT1H
BEGIN:VTIMEZONE
TZID:America/Chicago
BEGIN:DAYLIGHT
TZOFFSETFROM:-0600
TZOFFSETTO:-0500
TZNAME:CDT
DTSTART:20240310T080000
END:DAYLIGHT
BEGIN:STANDARD
TZOFFSETFROM:-0500
TZOFFSETTO:-0600
TZNAME:CST
DTSTART:20241103T070000
END:STANDARD
BEGIN:DAYLIGHT
TZOFFSETFROM:-0600
TZOFFSETTO:-0500
TZNAME:CDT
DTSTART:20250309T080000
END:DAYLIGHT
BEGIN:STANDARD
TZOFFSETFROM:-0500
TZOFFSETTO:-0600
TZNAME:CST
DTSTART:20251102T070000
END:STANDARD
BEGIN:DAYLIGHT
TZOFFSETFROM:-0600
TZOFFSETTO:-0500
TZNAME:CDT
DTSTART:20260308T080000
END:DAYLIGHT
BEGIN:STANDARD
TZOFFSETFROM:-0500
TZOFFSETTO:-0600
TZNAME:CST
DTSTART:20261101T070000
END:STANDARD
END:VTIMEZONE
BEGIN:VEVENT
DTSTART;TZID=America/Chicago:20250401T110000
DTEND;TZID=America/Chicago:20250401T120000
DTSTAMP:20260423T075230
CREATED:20241211T162324Z
LAST-MODIFIED:20250303T144837Z
UID:10002832-1743505200-1743508800@cirtl.net
SUMMARY:Exploring Teaching Careers at Research Universities with CIRTL Alumni
DESCRIPTION:Faculty members who primarily teach\, rather than do research\, have become increasingly important for delivering courses to STEM undergraduates. Learn about the teaching faculty career path and ask questions of CIRTL alumni who are junior teaching faculty in this online panel event. Panelists will discuss the rewards and challenges of these positions\, the opportunities for stability and advancement\, and how non-tenure line faculty live in a research department. This is the first event in our three-part series “Exploring Career Paths with CIRTL Alumni.” \nSpeakers\nDr. Corrine Monks (Higley)\, Assistant Professor of Biological Sciences\, Michigan State University\nDr. Thomas Dombrowsky\, Clinical Associate Professor of Nursing\, University of Texas at Arlington\nDr. Brittany Miller\, Assistant Professor of Biology\, Hofstra University \nEvent Schedule\nThis online event meets on Tuesday\, April 1 at 8-9pm Gulf / 1-2pm Atlantic / 12-1pm Eastern / 11am-12pm Central / 10-11am Mountain / 9-10am Pacific. This is the first event in our four-part series “Exploring Career Paths with CIRTL Alumni.” \nAudience\nThis event is designed first and foremost for graduate students and postdoctoral researchers in STEM/SBE disciplines exploring potential career paths\, but generally relevant to anyone interested in understanding career trajectories within academia and beyond. \nRegistration\nNo cap. \nREGISTER NOW \nAccessibility\nIf you have access needs\, please let us know what they are. Contact Kate Diamond (kdiamond3@wisc.edu)\, who is supporting this workshop\, to let us know how we can help you have a successful experience. In addition to meeting individualized needs\, we will also take measures throughout the workshop to support accessibility for all our students: \n\nEnabling live captioning in synchronous sessions\nIncorporating multiple modes of interaction into synchronous sessions\n\n\nLearning Outcomes\nAll CIRTL Network programming is designed to help participants achieve familiarity with our Core Ideas. This workshop is designed around the following learning outcomes. \nProfessional Development\n\nIdentify skills and resources that help you navigate different career pathways
URL:https://cirtl.net/event/exploring-teaching-careers-at-research-universities-with-cirtl-alumni-2/
CATEGORIES:Event
END:VEVENT
BEGIN:VEVENT
DTSTART;TZID=America/Chicago:20250402T110000
DTEND;TZID=America/Chicago:20250402T120000
DTSTAMP:20260423T075230
CREATED:20250117T192809Z
LAST-MODIFIED:20250121T142528Z
UID:10002844-1743591600-1743595200@cirtl.net
SUMMARY:Careers Beyond Higher Education Panel 1: Government\, Non-profits & Consulting
DESCRIPTION:Join panelists from various disciplines to discuss their career paths from graduate degrees to positions in government\, the non-profit sector\, and consulting. Panelists will address how they used their degrees and training to prepare them for their current positions and any advice they can give to current graduate students. Plenty of time will be given for questions. This is the seventh event in our eight-part series “The Joyful Journey: Graduate Student and Postdoctoral Scholar Professional Development Series.” \nSpeakers\nLameese Akacem\, Ph.D. (Integrative Physiology)\,Program Officer\, Division of Training and Workforce Development\, Division of Genetics and Molecular\, Cellular\, and Developmental Biology\, National Institute of General Medical Sciences  \nBrian Buma\, Ph.D. (Ecology and Evolutionary Biology)\, Senior Climate Scientist\, Exploration\, Innovation\, Environmental Defense Fund \nJenny Ramirez\, Ph.D. (Civil Engineering)\, Senior Geotechnical Engineer\, Geosyntec Consultants \nVanderlei Vargas Jr.\, Ph.D. (Atmospheric Science)\, Research Associate IV\, NOAA Global Systems Laboratory \nEvent Schedule\nThis online event meets on Wednesday\, April 2 at 8-9pm Gulf Time / 1-2pm Atlantic / 12-1pm Eastern / 11am-12pm Central / 10-11am Mountain / 9-10am Pacific. \nAudience\nThis event is designed for graduate students and postdoctoral researchers looking for an introduction to fundamental academic professional development topics. \nRegistration\nREGISTER NOW\nNo cap. Registration opens Tuesday\, January 21. \nAccessibility\nIf you have access needs\, please let us know what they are. Contact Kate Diamond (kdiamond3@wisc.edu)\, who is supporting this workshop\, to let us know how we can help you have a successful experience. In addition to meeting individualized needs\, we will also take measures throughout the workshop to support accessibility for all our students: \n\nEnabling live captioning in synchronous sessions\nIncorporating multiple modes of interaction into synchronous sessions\n\n\nLearning Outcomes\nAll CIRTL Network programming is designed to help participants achieve familiarity with our Core Ideas. This workshop is designed around the following learning outcomes. \nProfessional Development\n\nIdentify skills and resources that help you navigate different career pathways
URL:https://cirtl.net/event/careers-beyond-higher-education-panel-1/
CATEGORIES:Event
END:VEVENT
BEGIN:VEVENT
DTSTART;TZID=America/Chicago:20250403T120000
DTEND;TZID=America/Chicago:20250403T140000
DTSTAMP:20260423T075230
CREATED:20240813T210132Z
LAST-MODIFIED:20250905T184357Z
UID:10002742-1743681600-1743688800@cirtl.net
SUMMARY:Postdoc Teaching Practicum
DESCRIPTION:Work with an experienced instructor in your discipline to enhance your understanding and experience of teaching a university course in this 5-month mentorship program. During the mentorship program\, you will observe a mentor in their teaching\, teach guest lectures and receive feedback on your teaching\, discuss approaches to teaching with your mentors\, and engage in group discussions of teaching with other participants. Throughout the program\, you will also attend a series of synchronous sessions on teaching development topics\, like lesson planning; teaching portfolios; equity\, diversity & inclusion; and teaching-as-research. By the end of this course\, participants will be able to: \n\nCreate a framework for how a typical university course operates\nArticulate how teaching and learning theories intersect with the practical requirements of a university course\nDesign university lessons which incorporate learner-centered lesson planning basics\, demonstrating the alignment of learning objectives\, learning activities and assessment techniques\nDevelop and refine a teaching portfolio using the evience of teaching effectiveness gathered throughout the internship\n\nThis course is part of CIRTL’s fall programming on evidence-based teaching fundamentals. \nInstructor\nNatalie Westwood\, University of British Columbia \nCourse Schedule\nThis 5-part mentorship program has synchronous sessions on Thursday\, December 5\, January 9\, February 6\, March 6\, and April 3 at 9-11pm Gulf / 2-4pm Atlantic / 1-3pm Eastern / 12-2pm Central / 11am-1pm Mountain / 10am-12pm Pacific (note that the course spans the 2024-2025 winter). Participants will be expected to do extensive independent work and work with their teaching mentors outside of these monthly sessions. Monthly sessions will cover: \n\nLesson design\nTeaching portfolios\nScholarship of Teaching & Learning\nEquity\, Diversity & Inclusion in Teaching\nExpert Panel\n\nAudience\nThis practicum is designed exclusively for postdoctoral researchers. Participants are expected to have achieved a CIRTL Associate certificate before enrolling. \nRegistration and Enrollment\nThis practicum has a cap of 40 students and is open for registration through October 28. Registrants will be directed to a short application to confirm their postdoc status\, confirm past experience with teaching and learning professional development\, and share their teaching experience. Before registering\, participants will need to set up a guest  account on University of British Columbia’s website (see directions for creating a “BASIC cwl account” at the bottom of the registration page). \nAccessibility\nIf you have a disability\, please let us know your learning needs. Contact Kate Diamond (kdiamond3@wisc.edu)\, who is supporting this course\, to let us know how we can help you have a successful experience. In addition to meeting individualized needs\, we will also take measures throughout the course to support accessibility for all our students: \n\nUsing alt-text on images in reading materials\nSending regular reminders with upcoming assignments to all students\nSharing materials for synchronous sessions with students via a course website (slides\, breakout group activity instructions\, etc.)\nEnabling live captioning in synchronous sessions\nIncorporating multiple modes of interaction into synchronous sessions\nSharing recordings from synchronous sessions\nAllowing students to make up absences and submit work late with no penalty\n\nLearning Outcomes\nAll CIRTL Network programming is designed to help participants achieve familiarity with our Core Ideas. This course is designed around the following learning outcomes. \nPractitioner: Learning Community\n\nContribute to local professionally-focused learning communities associated with teaching and learning\nImplement one or more learning community strategies for students in a learning experience\nIntegrate one or more learning community strategies into a teaching plan so as to accomplish learning goals and learning-through-diversity\n\nProfessional Development\n\nIdentify skills and resources that help you navigate different career pathways\nCreate materials that are commonplace in the academic job market (resumes\, CVs\, teaching portfolios\, diversity statements\, etc.)
URL:https://cirtl.net/event/postdoc-teaching-practicum-winter-2024/2025-04-03/
CATEGORIES:Course
END:VEVENT
BEGIN:VEVENT
DTSTART;TZID=America/Chicago:20250407T113000
DTEND;TZID=America/Chicago:20250407T123000
DTSTAMP:20260423T075230
CREATED:20250117T194329Z
LAST-MODIFIED:20250121T142514Z
UID:10002845-1744025400-1744029000@cirtl.net
SUMMARY:Careers Beyond Higher Education Panel 2: Private Industry\, Consulting & Non-profits
DESCRIPTION:Join panelists from various disciplines to discuss their career paths from graduate degrees to positions in private industry\, consulting\, and the non-profit sector. Panelists will address how they used their degrees and training to prepare them for their current positions and any advice they can give to current graduate students. Plenty of time will be given for questions. This is the final event in our eight-part series “The Joyful Journey: Graduate Student and Postdoctoral Scholar Professional Development Series.” \nSpeakers\nDanielle Lemmon\, Ph.D. (Atmospheric and Oceanic Sciences)\, Energy Consultant at Ramboll \nEthan Peck\, Ph.D. (Atmospheric and Oceanic Sciences)\, Director\, Data Engineering at Zoominfo \nArneshia Williams\, MFA (Dance)\, Program Director\, MNProv  \nAdam Williams\, Ph.D. (Geography)\, Principal UX Researcher\, Esri \nEvent Schedule\nThis online event meets on Monday\, April 7 at 8:30-9:30pm Gulf Time / 1:30-2:30pm Atlantic / 12:30-1:30pm Eastern / 11:30am-12:30pm Central / 10:30-11:30am Mountain / 9:30-10:30am Pacific. \nAudience\nThis event is designed for graduate students and postdoctoral researchers looking for an introduction to fundamental academic professional development topics. \nRegistration\nREGISTER NOW\nNo cap. Registration opens Tuesday\, January 21. \nAccessibility\nIf you have access needs\, please let us know what they are. Contact Kate Diamond (kdiamond3@wisc.edu)\, who is supporting this workshop\, to let us know how we can help you have a successful experience. In addition to meeting individualized needs\, we will also take measures throughout the workshop to support accessibility for all our students: \n\nEnabling live captioning in synchronous sessions\nIncorporating multiple modes of interaction into synchronous sessions\n\n\nLearning Outcomes\nAll CIRTL Network programming is designed to help participants achieve familiarity with our Core Ideas. This workshop is designed around the following learning outcomes. \nProfessional Development\n\nIdentify skills and resources that help you navigate different career pathways
URL:https://cirtl.net/event/careers-beyond-higher-education-panel-2/
CATEGORIES:Event
END:VEVENT
BEGIN:VEVENT
DTSTART;TZID=America/Chicago:20250408T110000
DTEND;TZID=America/Chicago:20250408T120000
DTSTAMP:20260423T075230
CREATED:20241211T162438Z
LAST-MODIFIED:20250207T175940Z
UID:10002833-1744110000-1744113600@cirtl.net
SUMMARY:Exploring Teaching Careers at Teaching Intensive Universities with CIRTL Alumni
DESCRIPTION:Nationally\, more undergraduates are educated at community colleges\, liberal arts colleges\, and specialized BS and MS universities than at research universities. These faculty become leaders at their institutions\, usually serve as advisers as well\, and may engage in some research. Learn about what it’s like to teaching at a teaching-intensive university and ask questions of CIRTL alumni who are teaching at these institutions in this online panel event. Panelists will talk about how much teaching they do\, opportunities for leadership and advancement\, and more. This is the second event in our three-part series “Exploring Career Paths with CIRTL Alumni.” \nSpeakers\nDr. Caitlin Williams\, Assistant Professor of Biology\, Virginia Wesleyan University\nDr. Josh Brown\, Assistant Professor of Psychology\, Southern Utah University\nDr. Eunice Park\, Assistant Professor of the Department of Public Health\, Montclair State University \nEvent Schedule\nThis online event meets on Tuesday\, April 8 at 8-9pm Gulf / 1-2pm Atlantic / 12-1pm Eastern / 11am-12pm Central / 10-11am Mountain / 9-10am Pacific. This is the first event in our four-part series “Exploring Career Paths with CIRTL Alumni.” \nAudience\nThis event is designed first and foremost for graduate students and postdoctoral researchers in STEM/SBE disciplines exploring potential career paths\, but generally relevant to anyone interested in understanding career trajectories within academia and beyond. \nRegistration\nNo cap.\nREGISTER NOW \nAccessibility\nIf you have access needs\, please let us know what they are. Contact Kate Diamond (kdiamond3@wisc.edu)\, who is supporting this workshop\, to let us know how we can help you have a successful experience. In addition to meeting individualized needs\, we will also take measures throughout the workshop to support accessibility for all our students: \n\nEnabling live captioning in synchronous sessions\nIncorporating multiple modes of interaction into synchronous sessions\n\n\nLearning Outcomes\nAll CIRTL Network programming is designed to help participants achieve familiarity with our Core Ideas. This workshop is designed around the following learning outcomes. \nProfessional Development\n\nIdentify skills and resources that help you navigate different career pathways
URL:https://cirtl.net/event/exploring-teaching-careers-at-teaching-intensive-universities-with-cirtl-alumni-2/
CATEGORIES:Event
END:VEVENT
BEGIN:VEVENT
DTSTART;TZID=America/Chicago:20250409T110000
DTEND;TZID=America/Chicago:20250409T123000
DTSTAMP:20260423T075230
CREATED:20241213T154115Z
LAST-MODIFIED:20250331T195705Z
UID:10002836-1744196400-1744201800@cirtl.net
SUMMARY:CIRTL Network Teaching-as-Research Presentations
DESCRIPTION:Hear graduate students and postdocs from across the CIRTL Network share the results of their Teaching-as-Research (TAR) projects in this online presentation session. In TAR projects\, future faculty explore a specific question about teaching and learning\, design and implement some sort of classroom-based intervention to test that question\, and consider how they might adjust their teaching practices based on what the results show. TAR is a cornerstone of CIRTL’s work in developing reflective practitioners that support learning for all. \nSchedule\nThis online event meets on Wednesday\, April 9 at 8-9:30pm Gulf / 1-2:30pm Atlantic / 12-1:30pm Eastern / 11am-12:30pm Central / 10-11:30am Mountain / 9-10:30am Pacific. \nHow to attend\nREGISTER TO ATTEND \nThis online event is open to the public. Participant registration opens Monday\, January 13 at 8-9pm Gulf / 1-2pm Atlantic / 12-1pm Eastern / 11am-12pm Central / 10-11am Mountain / 9-10am Pacific and closes Wednesday\, April 9. Once you register\, you will automatically receive Zoom information for the session. \nSpeakers\nSee speakers and their institutions below. See our detailed agenda for descriptions of each project. \nSarah Swiston\, Washington University in St. Louis\nJacquelina DaSilva\, University of British Columbia\nAndrew Ramirez\, University of California\, Los Angeles\nDaniel Pearce\, University of Wisconsin-Madison\nJoanna Joseph\, University of Arizona\nMadeline Pelgrim\, Brown University\nHaley Keglovits\, Brown University\nPatrick Duryea\, University of Nebraska-Lincoln\nIvy Kwok\, University of California\, Los Angeles\nSona Chitchyan\, Michigan State University\nSushma Anand Akoju\, University of New Hampshire\nJessica Latimer\, Dalhousie University\nZeenat Farooq\, University of Illinois at Chicago\nAnnabelle Hicks\, University of Connecticut\nJosie Mazzone\, University of Arizona\nOluchi Kanma-Okafor\, University of Arizona\nFaith Odele\, Texas A&M University\nJia Yi Lee\, Johns Hopkins University\nKimberlie Vera\, University of Wisconsin-Madison\nRita Franco\, University of Idaho\nNadeen Anabtawi\, The Ohio State University\nChristine Hustmyer\, University of Wisconsin-Madison \nAccessibility\nIf you have access needs\, please let us know what they are. Contact Zoe Zuleger (zmzuleger@wisc.edu)\, who is supporting this event\, to let us know how we can help you have a successful experience. In addition to meeting individualized needs\, we will also take measures throughout the event to support accessibility for all our participants: \n\nSharing materials for synchronous sessions with students (slides\, activity instructions\, etc.)\nEnabling live captioning in synchronous sessions\nIncorporating multiple modes of interaction into synchronous sessions\n\n\nLearning Outcomes\nAll CIRTL Network programming is designed to help participants achieve familiarity with our Core Ideas. This event is designed around the following learning outcomes. \nAssociate: Teaching-as-Research\n\nDescribe a “full-inquiry” cycle.\nDefine and recognize the value of the Teaching-as-Research process\, and how it can be used for ongoing enhancement of learning.
URL:https://cirtl.net/event/cirtl-network-teaching-as-research-presentations-2025/
CATEGORIES:Event
END:VEVENT
BEGIN:VEVENT
DTSTART;TZID=America/Chicago:20250415T110000
DTEND;TZID=America/Chicago:20250415T120000
DTSTAMP:20260423T075230
CREATED:20241211T162713Z
LAST-MODIFIED:20250303T145100Z
UID:10002834-1744714800-1744718400@cirtl.net
SUMMARY:Exploring Academic Careers Beyond the Professoriate with CIRTL Alumni
DESCRIPTION:People who hold advanced degrees in STEM disciplines serve in many roles across academia – from administration and research support\, to teaching centers and advising – where their preparation in teaching as well as their analytical and organizational skills are invaluable. Learn what some of these professions are like and ask questions of CIRTL alumni who work in these roles in this online panel event. Panelists will talk about their specific positions\, their pathway to those positions\, and the value of remaining connected to academia. This is the third event in our three-part series “Exploring Career Paths with CIRTL Alumni.” \nSpeakers\nDr. Joelyn deLima\, Scientist and Pedagogical Advisor\, Swiss Federal Technology Institute of Lausanne\nDr. Abby Letak\, Writing Across the Curriculum Associate Director\, University of Wisconsin-Madison\nDr. Stephen K. Kim\, Assistant Director for Educational Innovation & Lecturer in the Center for Dialogue & Pluralism; School of Industrial and Labor Relations Lecturer\, Cornell University \nEvent Schedule\nThis online event meets on Tuesday\, April 15 at 8-9pm Gulf / 1-2pm Atlantic / 12-1pm Eastern / 11am-12pm Central / 10-11am Mountain / 9-10am Pacific. This is the first event in our four-part series “Exploring Career Paths with CIRTL Alumni.” \nAudience\nThis event is designed first and foremost for graduate students and postdoctoral researchers in STEM/SBE disciplines exploring potential career paths\, but generally relevant to anyone interested in understanding career trajectories within academia and beyond. \nRegistration\nNo cap.\nREGISTER NOW \nAccessibility\nIf you have access needs\, please let us know what they are. Contact Kate Diamond (kdiamond3@wisc.edu)\, who is supporting this workshop\, to let us know how we can help you have a successful experience. In addition to meeting individualized needs\, we will also take measures throughout the workshop to support accessibility for all our students: \n\nEnabling live captioning in synchronous sessions\nIncorporating multiple modes of interaction into synchronous sessions\n\n\nLearning Outcomes\nAll CIRTL Network programming is designed to help participants achieve familiarity with our Core Ideas. This workshop is designed around the following learning outcomes. \nProfessional Development\n\nIdentify skills and resources that help you navigate different career pathways
URL:https://cirtl.net/event/exploring-academic-careers-beyond-the-professoriate/
CATEGORIES:Event
END:VEVENT
END:VCALENDAR